BEGIN:VCALENDAR
VERSION:2.0
PRODID:-//UBV - ECPv6.15.20//NONSGML v1.0//EN
CALSCALE:GREGORIAN
METHOD:PUBLISH
X-WR-CALNAME:UBV
X-ORIGINAL-URL:https://www.ubv.at
X-WR-CALDESC:Veranstaltungen für UBV
REFRESH-INTERVAL;VALUE=DURATION:PT1H
X-Robots-Tag:noindex
X-PUBLISHED-TTL:PT1H
BEGIN:VTIMEZONE
TZID:UTC
BEGIN:STANDARD
TZOFFSETFROM:+0000
TZOFFSETTO:+0000
TZNAME:UTC
DTSTART:20220101T000000
END:STANDARD
END:VTIMEZONE
BEGIN:VEVENT
DTSTART;TZID=UTC:20231118T100000
DTEND;TZID=UTC:20231118T150000
DTSTAMP:20260422T235030
CREATED:20230109T130236Z
LAST-MODIFIED:20231107T084452Z
UID:6496-1700301600-1700319600@www.ubv.at
SUMMARY:UBV NÖ Generalversammlung
DESCRIPTION:Der UBV Landesverband Niederösterreich\, Burgenland und Wien lädt alle Mitglieder und Interessierte zum Landesverbandstag. \nTAGESORDUNG: \n\nBegrüßung durch Landesobmann LKR Herbert Hochwallner 10 Uhr\nGastvortrag von Regierungsrat Johann Gartlehner „Lohnt es sich heute noch ein unabhängiger Bauern zu sein?“\nNeue Ideen von unseren Jungbauern\nMittagessen 12-13 Uhr\nLandesverbandstag / Generalversammlung ab 13 Uhr\nEröffnung durch Landesobmann LKR Herbert Hochwallner\nVerlesung des Protokolls der Generalversammlung vom 14. Jänner 2023\nKassabericht\nKassaprüfung – Entlastung der Kassiere und des Vorstands\nWorte des Dankes und der Anerkennung verdienter Mitglieder\nUBV-Internes / Änderungen im Landesvorstand\nAllfälliges\nSchließung der Generalversammlung durch den Obmann\n\nDer UBV Vorstand freut sich auf zahlreiche Mitglieder.
URL:https://www.ubv.at/event/ubv-noe-generalversammlung/
LOCATION:Hotel Moser\, Pöchlarn\, Bahnhofplatz 3\, Pöchlarn\, 3380
CATEGORIES:Termine_AT
END:VEVENT
END:VCALENDAR